BEGIN:VCALENDAR
VERSION:2.0
PRODID:-//Plone.org//NONSGML plone.app.event//EN
X-WR-TIMEZONE:Europe/Berlin
BEGIN:VEVENT
SUMMARY:Aktion Gesund Studieren
DTSTART;TZID=Europe/Berlin:20240620T110000
DTEND;TZID=Europe/Berlin:20240620T140000
DTSTAMP:20260420T183621Z
UID:0e1c16160e9e480a855cdb17f17548d8@www.econ.uni-bonn.de
CREATED:20240313T121157Z
DESCRIPTION:Am 20. Juni 2024 zwischen 11-14 Uhr gibt es einen Aktionsstand
  auf dem Innenhof des Juridicums zum Thema "Wellbeing/Mental Health". Dort
  können sich Studierende und Mitarbeiter in ungezwungener Atmosphäre bei
  Mitarbeitern des Healthy Campus zum mittlerweile umfangreichen Gesundheit
 sangebot der Universität Bonn informieren.
LAST-MODIFIED:20250906T002233Z
URL:https://www.econ.uni-bonn.de/de/veranstaltungen/aktion-gesund-studiere
 n
END:VEVENT
BEGIN:VTIMEZONE
TZID:Europe/Berlin
X-LIC-LOCATION:Europe/Berlin
BEGIN:DAYLIGHT
DTSTART:20240331T030000
TZNAME:CEST
TZOFFSETFROM:+0100
TZOFFSETTO:+0200
END:DAYLIGHT
END:VTIMEZONE
END:VCALENDAR
