BEGIN:VCALENDAR
VERSION:2.0
PRODID:-//Plone.org//NONSGML plone.app.event//EN
X-WR-TIMEZONE:Europe/Berlin
BEGIN:VEVENT
SUMMARY:Bergfest
DTSTART;TZID=Europe/Berlin:20250605T140000
DTEND;TZID=Europe/Berlin:20250605T180000
DTSTAMP:20260419T155954Z
UID:3a227cf0f199423f87c9d7815661a3a6@www.econ.uni-bonn.de
CREATED:20250327T095839Z
DESCRIPTION:Die Zentrale Studienberatung läd Sie zum Bergfest in den Bota
 nischen Garten ein. Beim Bergfest wollen wir gemeinsam mit Ihnen bereits G
 eschafftes feiern und Sie für Ihren weiteren Studienweg empowern.\nNeben 
 praktischen Übungen an den “Empowerment Stationen” wird es Sportangeb
 ote\, Selbstreflexionsübungen und einen Posterwalk geben. Außerdem werde
 n die zentralen Service- und Beratungsstellen mit Beratungsständen vor Or
 t sein. Bei kostenfreien Snacks und Getränken\, auf gemütlichen Liegest
 ühlen oder den Wiesen des Botanischen Gartens können Sie sich untereinan
 der austauschen und entspannen. Das Event richtet sich an Studierende ab d
 er zweiten Studienhälfte.
LAST-MODIFIED:20250906T002204Z
URL:https://www.econ.uni-bonn.de/de/veranstaltungen/bergfest-1
END:VEVENT
BEGIN:VTIMEZONE
TZID:Europe/Berlin
X-LIC-LOCATION:Europe/Berlin
BEGIN:DAYLIGHT
DTSTART:20250330T030000
TZNAME:CEST
TZOFFSETFROM:+0100
TZOFFSETTO:+0200
END:DAYLIGHT
END:VTIMEZONE
END:VCALENDAR
