BEGIN:VCALENDAR
VERSION:2.0
PRODID:-//Plone.org//NONSGML plone.app.event//EN
X-WR-TIMEZONE:Europe/Berlin
BEGIN:VEVENT
SUMMARY:Fakultätskarrieretag: Online-Bewerbungstraining
DTSTART;TZID=Europe/Berlin:20240603T150000
DTEND;TZID=Europe/Berlin:20240603T163000
DTSTAMP:20260420T162357Z
UID:94eb8ac4ec464ee9b492421274bc1318@www.econ.uni-bonn.de
CREATED:20240313T111556Z
DESCRIPTION:Erhalte praktische Tipps zum Bewerbungsverfahren\, der Formuli
 erung eines Anschreibens\, dem optimalen Lebenslauf\, dem richtigen Umgang
  im Interview und vieles mehr rund um das Thema Bewerbung.
LAST-MODIFIED:20250906T002229Z
URL:https://www.econ.uni-bonn.de/de/veranstaltungen/bewerbungstraining-onl
 ine
END:VEVENT
BEGIN:VTIMEZONE
TZID:Europe/Berlin
X-LIC-LOCATION:Europe/Berlin
BEGIN:DAYLIGHT
DTSTART:20240331T030000
TZNAME:CEST
TZOFFSETFROM:+0100
TZOFFSETTO:+0200
END:DAYLIGHT
END:VTIMEZONE
END:VCALENDAR
