BEGIN:VCALENDAR
VERSION:2.0
PRODID:-//Plone.org//NONSGML plone.app.event//EN
X-WR-TIMEZONE:Europe/Berlin
BEGIN:VEVENT
SUMMARY:Diversity Days
DTSTART;VALUE=DATE:20230523
DTEND;VALUE=DATE:20230525
DTSTAMP:20260420T210303Z
UID:ec6d9ec01f6c40cea9706ad316982050@www.econ.uni-bonn.de
CREATED:20230503T134040Z
DESCRIPTION:Anlässlich des deutschen Diversity Tages am 23.05.2023 verans
 taltet das Prorektorat für Chancengerechtigkeit und Diversität\, gemeins
 am mit der gleichnamigen Stabsstelle\, dieses Jahr zum zweiten Mal die Div
 ersity Days an der Universität Bonn.\nSie sind herzlich zu allen Veransta
 ltungen eingeladen. Für die Podiumsdiskussion am 23.05. besteht die Mögl
 ichkeit des Dolmetschens ins Englische.\n\nDienstag\, 23. Mai 2023\n17:00 
 Uhr - 19:15 Uhr: Podiumsdiskussion “Diversity in der deutschen Akademia
 “\nMittwoch\, 24. Mai 2023\n11:30 Uhr - 15:30 Uhr: 11:30 Uhr Fair of Opp
 ortunities (im Rahmen des Dies Academicus)
LAST-MODIFIED:20230503T134546Z
URL:https://www.econ.uni-bonn.de/de/veranstaltungen/diversity-days
END:VEVENT
END:VCALENDAR
