BEGIN:VCALENDAR
VERSION:2.0
PRODID:-//Plone.org//NONSGML plone.app.event//EN
X-WR-TIMEZONE:Europe/Berlin
BEGIN:VEVENT
SUMMARY:Erstsemester-Welcome 2023
DTSTART;TZID=Europe/Berlin:20231004T111500
DTEND;TZID=Europe/Berlin:20231004T180000
DTSTAMP:20260425T164127Z
UID:b4e984ecd971437181480772d2b91b1f@www.econ.uni-bonn.de
CREATED:20230904T094502Z
DESCRIPTION:Die zentrale Begrüßungsveranstaltung für Erstsemester: Offi
 zielle Begrüßung in der Aula\, anschließend Infomarkt mit zentralen uni
 versitären und studentischen Einrichtungen im Arkadenhof\, Mitmachaktione
 n am Nachmittag\, gefolgt von der Ersti-Party der Uni am Abend.\n\nab 11.1
 5 Uhr 	Einlass in die Aula\n12.00 Uhr s.t. 	offizielle Begrüßung in der 
 Aula mit Rektor Prof. Hoch sowie der AStA-Vorsitzenden\nca. 12.45 Uhr 	End
 e der offiziellen Begrüßung\nanschl. 	Infomarkt im Bereich des Arkadenho
 fs bis ca. 15 Uhr\nab 15.00 Uhr 	Mitmachangebote des Hochschulsports und d
 er Fachschaften sowie Führungen für Erstsemester\nab 18.00 Uhr 	Ersti-Pa
 rty im und am Hauptgebäude
LAST-MODIFIED:20250906T002435Z
URL:https://www.econ.uni-bonn.de/de/veranstaltungen/erstsemester-welcome-2
 023
END:VEVENT
BEGIN:VTIMEZONE
TZID:Europe/Berlin
X-LIC-LOCATION:Europe/Berlin
BEGIN:DAYLIGHT
DTSTART:20230326T030000
TZNAME:CEST
TZOFFSETFROM:+0100
TZOFFSETTO:+0200
END:DAYLIGHT
END:VTIMEZONE
END:VCALENDAR
