BEGIN:VCALENDAR
VERSION:2.0
PRODID:-//Plone.org//NONSGML plone.app.event//EN
X-WR-TIMEZONE:Europe/Berlin
BEGIN:VEVENT
SUMMARY:Girls’ Day 2023
DTSTART;TZID=Europe/Berlin:20230427T100000
DTEND;TZID=Europe/Berlin:20230427T130000
DTSTAMP:20260422T215123Z
UID:3b3e88be28f64216be42173f1489c4a0@www.econ.uni-bonn.de
CATEGORIES:Studium
CREATED:20210309T083027Z
DESCRIPTION:Am Donnerstag\, den 27. April ist wieder Girls‘Day!\n\nDu in
 teressierst dich für Wirtschaft und Forschung? Du möchtest später in de
 inem Beruf ein Beitrag für die Lösung von Problemen in Wirtschaft und Ge
 sellschaft leisten? Du möchtest Ideen entwickeln\, wie man die knappen Re
 ssourcen von heute mit Rücksicht auf die Natur für den Wohlstand von Vie
 len effizient einsetzen kann? Dann lerne eine Ökonomin kennen\, die mit i
 hrer Forschung zur Lösung aktueller Probleme beiträgt. Besuche eine Lehr
 veranstaltung\, in der du an einem wirtschaftswissenschaftlichen Experimen
 t teilnimmst und erfahre während eines Lunch Snacks mehr\, wie du selbst 
 Ökonomin werden kannst. \n\nUnser Angebot richtet sich an Schülerinnen a
 b der 8. Klasse!
LAST-MODIFIED:20250906T003810Z
URL:https://www.econ.uni-bonn.de/de/veranstaltungen/girlsday-2023
END:VEVENT
BEGIN:VTIMEZONE
TZID:Europe/Berlin
X-LIC-LOCATION:Europe/Berlin
BEGIN:DAYLIGHT
DTSTART:20230326T030000
TZNAME:CEST
TZOFFSETFROM:+0100
TZOFFSETTO:+0200
END:DAYLIGHT
END:VTIMEZONE
END:VCALENDAR
