BEGIN:VCALENDAR
VERSION:2.0
PRODID:-//Plone.org//NONSGML plone.app.event//EN
X-WR-TIMEZONE:Europe/Berlin
BEGIN:VEVENT
SUMMARY:Hays – Ihr Online-Vorstellungsgespräch am 02.11.2022 um 16.30
DTSTART;TZID=Europe/Berlin:20221102T163000
DTEND;TZID=Europe/Berlin:20221102T180000
DTSTAMP:20260423T013826Z
UID:b537c5c3fa2e4610bf873ba1f00cdc5d@www.econ.uni-bonn.de
CREATED:20221102T122119Z
DESCRIPTION:Am 02.11.2022 um 16.30 verrät Ihnen Hays\, was Sie bei virtue
 llen Vorstellungsgesprächen beachten sollten\, wie Sie sich durch Small-T
 alk geschickt positionieren können und beantwortet Fragen wie z.B. \n- Wi
 e läuft ein Online Vorstellungsgespräch genau ab? \n- Welches Outfit sol
 lte ich wählen? \n- Was tue ich\, wenn meine Verbindung unterbricht?
LAST-MODIFIED:20250906T003951Z
URL:https://www.econ.uni-bonn.de/de/veranstaltungen/hays-workshops-und-ber
 atung
END:VEVENT
BEGIN:VTIMEZONE
TZID:Europe/Berlin
X-LIC-LOCATION:Europe/Berlin
BEGIN:STANDARD
DTSTART:20221030T020000
TZNAME:CET
TZOFFSETFROM:+0200
TZOFFSETTO:+0100
END:STANDARD
END:VTIMEZONE
END:VCALENDAR
