BEGIN:VCALENDAR
VERSION:2.0
PRODID:-//Plone.org//NONSGML plone.app.event//EN
X-WR-TIMEZONE:Europe/Berlin
BEGIN:VEVENT
SUMMARY:Informationsveranstaltung: Prüfungen im SoSe 2023 (Online)
DTSTART;TZID=Europe/Berlin:20230613T183000
DTEND;TZID=Europe/Berlin:20230613T191500
DTSTAMP:20260421T044033Z
UID:9c71106304d24f42a3db95f9afa328bb@www.econ.uni-bonn.de
CREATED:20230517T110727Z
DESCRIPTION:Für Bachelorstudierende am Fachbereich Wirtschaftswissenschaf
 ten: Wir informieren über den Ablauf von Prüfungen im Allgemeinen\, das 
 Verfahren der Anmeldung und beraten hinsichtlich der Teilnahme an Prüfung
 en im ersten und/oder zweiten Prüfungszeitraum.\nStellen Sie gerne Ihre F
 ragen!
LAST-MODIFIED:20230517T114640Z
URL:https://www.econ.uni-bonn.de/de/veranstaltungen/info-pruefungen-online
END:VEVENT
BEGIN:VTIMEZONE
TZID:Europe/Berlin
X-LIC-LOCATION:Europe/Berlin
BEGIN:DAYLIGHT
DTSTART:20230326T030000
TZNAME:CEST
TZOFFSETFROM:+0100
TZOFFSETTO:+0200
END:DAYLIGHT
END:VTIMEZONE
END:VCALENDAR
