BEGIN:VCALENDAR
VERSION:2.0
PRODID:-//Plone.org//NONSGML plone.app.event//EN
X-WR-TIMEZONE:Europe/Berlin
BEGIN:VEVENT
SUMMARY:B. Sc. VWL: Informationen zum Studienbeginn
DTSTART;TZID=Europe/Berlin:20221006T140000
DTSTAMP:20260421T231051Z
UID:11b4e0a65bfc4e11b9d1a1c10e162188@www.econ.uni-bonn.de
CREATED:20220609T065223Z
DESCRIPTION:Der Fachbereich Wirtschaftswissenschaften veranstaltet eine In
 formationsveranstaltung für alle\, die im Wintersemester 2022/23 ein Stud
 ium der Volkswirtschaftslehre\, B. Sc. beginnen. In der Informationsverans
 taltung erhalten Sie Informationen zum Studienaufbau\, zum Stundenplan\, z
 u den Prüfungen und zum Thema Auslandsstudium.
LAST-MODIFIED:20231005T121320Z
URL:https://www.econ.uni-bonn.de/de/veranstaltungen/informationsveranstalt
 ung
END:VEVENT
BEGIN:VTIMEZONE
TZID:Europe/Berlin
X-LIC-LOCATION:Europe/Berlin
BEGIN:DAYLIGHT
DTSTART:20220327T030000
TZNAME:CEST
TZOFFSETFROM:+0100
TZOFFSETTO:+0200
END:DAYLIGHT
END:VTIMEZONE
END:VCALENDAR
