BEGIN:VCALENDAR
VERSION:2.0
PRODID:-//Plone.org//NONSGML plone.app.event//EN
X-WR-TIMEZONE:Europe/Berlin
BEGIN:VEVENT
SUMMARY:Langer Abend der Studienberatung
DTSTART;TZID=Europe/Berlin:20240613T170000
DTEND;TZID=Europe/Berlin:20240613T200000
DTSTAMP:20260422T051848Z
UID:104309ad4d8d4cc0a86d8065eab1a72c@www.econ.uni-bonn.de
CREATED:20240524T113012Z
DESCRIPTION:Sie interessieren sich für ein Studium der Wirtschaftswissens
 chaften oder Volkswirtschaftslehre an der Universität Bonn? Bei den "Bonn
 er Hochschultagen" haben Sie die Möglichkeit sich über unsere Studiengä
 nge und Ihre Möglichkeiten an der Universität Bonn zu informieren.\n\nAn
  Informationsständen\, in Kurzvorträgen und Beratungsgesprächen gibt es
  Antworten auf Fragen rund um das Studium. Die Veranstaltung ist kostenlos
  und findet am Donnerstag\, 13. Juni\, von 17 bis 20 Uhr auf dem Hörsaalg
 elände des Campus Poppelsdorf statt.
LAST-MODIFIED:20250906T004437Z
URL:https://www.econ.uni-bonn.de/de/veranstaltungen/langer-abend-der-studi
 enberatung-1
END:VEVENT
BEGIN:VTIMEZONE
TZID:Europe/Berlin
X-LIC-LOCATION:Europe/Berlin
BEGIN:DAYLIGHT
DTSTART:20240331T030000
TZNAME:CEST
TZOFFSETFROM:+0100
TZOFFSETTO:+0200
END:DAYLIGHT
END:VTIMEZONE
END:VCALENDAR
