BEGIN:VCALENDAR
VERSION:2.0
PRODID:-//Plone.org//NONSGML plone.app.event//EN
X-WR-TIMEZONE:Europe/Berlin
BEGIN:VEVENT
SUMMARY:Langer Abend der Studienberatung
DTSTART;TZID=Europe/Berlin:20220623T160000
DTEND;TZID=Europe/Berlin:20220623T200000
DTSTAMP:20260420T135903Z
UID:9cc5990a1204458688a6a77022645b5b@www.econ.uni-bonn.de
CATEGORIES:Studium
CREATED:20220504T101521Z
DESCRIPTION:Sie interessieren sich für ein Studium der Wirtschaftswissens
 chaften an der Universität Bonn? Beim "Langen Abend der Studienberatung" 
 haben Sie die Möglichkeit sich "Last Minute" vor der Bewerbung für das W
 intersemester 2022/23 über unsere Studiengänge und Ihre Möglichkeiten a
 n der Universität Bonn zu informieren. In der Zeit von 16 – 20 Uhr kön
 nen Sie neben den vielfältigen Beratungs- und Informationsmöglichkeiten 
 der Universität\, Ihre Fragen an die Fachstudienberatung der Wirtschaftsw
 issenschaften stellen. Wir informieren gerne neben den Studieninhalten\, d
 en Voraussetzungen und den Aufbau das Studiums über Karriereperspektiven 
 und Auslandssemester.
LAST-MODIFIED:20250906T003327Z
URL:https://www.econ.uni-bonn.de/de/veranstaltungen/langer-abend-der-studi
 enberatung
END:VEVENT
BEGIN:VTIMEZONE
TZID:Europe/Berlin
X-LIC-LOCATION:Europe/Berlin
BEGIN:DAYLIGHT
DTSTART:20220327T030000
TZNAME:CEST
TZOFFSETFROM:+0100
TZOFFSETTO:+0200
END:DAYLIGHT
END:VTIMEZONE
END:VCALENDAR
