BEGIN:VCALENDAR
VERSION:2.0
PRODID:-//Plone.org//NONSGML plone.app.event//EN
X-WR-TIMEZONE:Europe/Berlin
BEGIN:VEVENT
SUMMARY:LaTeX-Kurs
DTSTART;VALUE=DATE:20240412
DTEND;VALUE=DATE:20240415
DTSTAMP:20260420T084955Z
UID:b7804c2bfb1b48919f5e25a3539c0892@www.econ.uni-bonn.de
CREATED:20240205T110944Z
DESCRIPTION:Die Fachschaft VWL bietet wieder einen LaTeX-Softwarekurs an! 
 Der Kurs wird vom 12.04.2024 – 14.04.2024 im Juridicum stattfinden (Sonn
 tag online via Zoom). Ein genauer Tagesplan wird bekanntgegeben\, sobald d
 ie Anmeldephase vorbei ist. \n\nWie kann ich mich anmelden? Link unten
LAST-MODIFIED:20250906T002508Z
URL:https://www.econ.uni-bonn.de/de/veranstaltungen/latex-kurs
END:VEVENT
END:VCALENDAR
