BEGIN:VCALENDAR
VERSION:2.0
PRODID:-//Plone.org//NONSGML plone.app.event//EN
X-WR-TIMEZONE:Europe/Berlin
BEGIN:VEVENT
SUMMARY:Lehramtsstudierende: Infos zum Studienbeginn
DTSTART;TZID=Europe/Berlin:20251006T160000
DTEND;TZID=Europe/Berlin:20251006T170000
DTSTAMP:20260422T005701Z
UID:cba958dd9d6e433f9f6409848e6264d3@www.econ.uni-bonn.de
CREATED:20250924T110305Z
DESCRIPTION:Der Fachbereich Wirtschaftswissenschaften veranstaltet eine In
 formationsveranstaltung für alle\, die im Wintersemester 2025/26 Module d
 er Wirtschaftswissenschaften als Teil des Lehramtsstudiums belegen.\nDen Z
 oom-Link finden Sie verlinkt unter "weitere Informationen".
LAST-MODIFIED:20250924T110805Z
URL:https://www.econ.uni-bonn.de/de/veranstaltungen/lehramtsstudierende-in
 fos-zum-studienbeginn
END:VEVENT
BEGIN:VTIMEZONE
TZID:Europe/Berlin
X-LIC-LOCATION:Europe/Berlin
BEGIN:DAYLIGHT
DTSTART:20250330T030000
TZNAME:CEST
TZOFFSETFROM:+0100
TZOFFSETTO:+0200
END:DAYLIGHT
END:VTIMEZONE
END:VCALENDAR
