BEGIN:VCALENDAR
VERSION:2.0
PRODID:-//Plone.org//NONSGML plone.app.event//EN
X-WR-TIMEZONE:Europe/Berlin
BEGIN:VEVENT
SUMMARY:Meet a Consultant @Deloitte
DTSTART;TZID=Europe/Berlin:20231208T120000
DTEND;TZID=Europe/Berlin:20231208T140000
DTSTAMP:20260421T084204Z
UID:9e47aac6ebf8456c9d9edb1aa04e7ccc@www.econ.uni-bonn.de
CATEGORIES:Karriere
CREATED:20231115T145028Z
DESCRIPTION:Deloitte lädt am Freitag\, den 08.12.2023 von 12:00 – ca. 1
 4:00 Uhr zur Vortragsreihe „Meet a Consultant @Deloitte“ ein. \nDer Vo
 rtrag hat einen hohen Praxisbezug und ist ebenfalls ein guter Startpunkt u
 m zu Netzwerken.\n\nKonkret würde es hierbei u.a. um folgende Punkte gehe
 n:\n• Wie sieht der Alltag in der Beratung aus?\n• Welche Eigenschafte
 n sollte ich bei uns in der Beratung überhaupt mitbringen?\n• Nach dem 
 Studium ist vor dem Gehalt – Gespräche über Gehälter im generellen\n(
 Ansätze unabhängig von Deloitte)\n• Welche Vorurteile gibt es in der B
 eratung?\n• Wie kann ein Bewerbungsverfahren aussehen und welche Fehler 
 können dabei\nauftauchen?\n\nAchtung: Die Teilnehmerzahl ist aus Kapazit
 ätsgründen auf 20 begrenzt. Eine Anmeldung über eCampus bis zum 29.11.2
 023 ist unbedingt erforderlich.\n\n28.11.2023: Die Veranstaltung ist berei
 ts ausgebucht!\n\nDer Link für Teams wurde per Mail versendet.
LAST-MODIFIED:20250906T003134Z
URL:https://www.econ.uni-bonn.de/de/veranstaltungen/meet-a-consultant-delo
 itte
END:VEVENT
BEGIN:VTIMEZONE
TZID:Europe/Berlin
X-LIC-LOCATION:Europe/Berlin
BEGIN:STANDARD
DTSTART:20231029T020000
TZNAME:CET
TZOFFSETFROM:+0200
TZOFFSETTO:+0100
END:STANDARD
END:VTIMEZONE
END:VCALENDAR
