BEGIN:VCALENDAR
VERSION:2.0
PRODID:-//Plone.org//NONSGML plone.app.event//EN
X-WR-TIMEZONE:Europe/Berlin
BEGIN:VEVENT
SUMMARY:Was macht eigentlich inzwischen die...?
DTSTART;TZID=Europe/Berlin:20221207T181500
DTEND;TZID=Europe/Berlin:20221207T193000
DTSTAMP:20260421T083056Z
UID:0de46bb1147443bf8e341e42088703e9@www.econ.uni-bonn.de
CREATED:20220505T074339Z
DESCRIPTION:Absolvent*innen der Bonner VWL im Gespräch:\nJa\, was macht e
 igentlich der/die...inzwischen? Wie schnell verliert man Kommiliton*innen 
 und Absolvent*innen aus den Augen. Schade\, denn meist landen die in inter
 essanten Berufsfeldern und hätten einiges Spannendes zu erzählen. Radost
  Holler und Hendrik Hakenes haben daher zwei Bonner Absolvent*innen ins Ju
 ridicum eingeladen und plaudern in ungezwungener Atmosphäre. Im Anschluss
  serviert die Fachschaft VWL Snacks und Getränke (je nach Wetterlage).
LAST-MODIFIED:20250906T002044Z
URL:https://www.econ.uni-bonn.de/de/veranstaltungen/was-macht-eigentlich-i
 nzwischen
END:VEVENT
BEGIN:VTIMEZONE
TZID:Europe/Berlin
X-LIC-LOCATION:Europe/Berlin
BEGIN:STANDARD
DTSTART:20221030T020000
TZNAME:CET
TZOFFSETFROM:+0200
TZOFFSETTO:+0100
END:STANDARD
END:VTIMEZONE
END:VCALENDAR
