BEGIN:VCALENDAR
VERSION:2.0
PRODID:-//Plone.org//NONSGML plone.app.event//EN
X-WR-TIMEZONE:Europe/Berlin
BEGIN:VEVENT
SUMMARY:WiE Inspire: Talk zu Data Science
DTSTART;TZID=Europe/Berlin:20230503T180000
DTEND;TZID=Europe/Berlin:20230503T190000
DTSTAMP:20260423T071709Z
UID:41cddbffa1c641689f072c9086946372@www.econ.uni-bonn.de
CREATED:20230421T114927Z
DESCRIPTION:Bei der fünften Auflage von Women in Economics diskutieren Dr
 . Barbara Schuler\, Gruppenleiterin bei Generali Deutschland AG und Caroli
 n Thomas\, Talent Acquisition bei QuantCo Erfahrungen und Möglichkeiten e
 iner Karriere als Data Scientist. Im Anschluss an die Diskussion gibt es d
 ie Gelegenheit\, bei Snacks und Getränken mit den Teilnehmenden ins Gespr
 äch zu kommen.
LAST-MODIFIED:20250906T002312Z
URL:https://www.econ.uni-bonn.de/de/veranstaltungen/wie-inspire-talk-zu-da
 ta-science
END:VEVENT
BEGIN:VTIMEZONE
TZID:Europe/Berlin
X-LIC-LOCATION:Europe/Berlin
BEGIN:DAYLIGHT
DTSTART:20230326T030000
TZNAME:CEST
TZOFFSETFROM:+0100
TZOFFSETTO:+0200
END:DAYLIGHT
END:VTIMEZONE
END:VCALENDAR
