BEGIN:VCALENDAR
VERSION:2.0
PRODID:-//Plone.org//NONSGML plone.app.event//EN
X-WR-TIMEZONE:Europe/Berlin
BEGIN:VEVENT
SUMMARY:Wie werde ich Tutor*in?
DTSTART;TZID=Europe/Berlin:20220517T180000
DTEND;TZID=Europe/Berlin:20220517T183000
DTSTAMP:20260423T014821Z
UID:291d6b2657aa49e0ae73eaf298517ee4@www.econ.uni-bonn.de
CATEGORIES:Studium,Karriere
CREATED:20220429T092612Z
DESCRIPTION:Am 17. Mai 2022 um 18:00 Uhr findet eine Informationsveranstal
 tung über Zoom zur Tutorenausschreibung statt. Den Zoomlink zur Veranstal
 tung finden Sie auf der Website für die Tutorenausschreibung (Link finden
  sie unten.). Sie erhalten Tipps zur Vorbereitung und Durchführung eines 
 Tutoriums\, zum Vertragsrahmen und können Ihre Fragen stellen.
LAST-MODIFIED:20250906T003916Z
URL:https://www.econ.uni-bonn.de/de/veranstaltungen/wie-werde-ich-tutor-in
END:VEVENT
BEGIN:VTIMEZONE
TZID:Europe/Berlin
X-LIC-LOCATION:Europe/Berlin
BEGIN:DAYLIGHT
DTSTART:20220327T030000
TZNAME:CEST
TZOFFSETFROM:+0100
TZOFFSETTO:+0200
END:DAYLIGHT
END:VTIMEZONE
END:VCALENDAR
