BEGIN:VCALENDAR
VERSION:2.0
PRODID:-//Plone.org//NONSGML plone.app.event//EN
X-WR-TIMEZONE:Europe/Berlin
BEGIN:VEVENT
SUMMARY:Information on the Bachelor thesis
DTSTART;TZID=Europe/Berlin:20250509T140000
DTEND;TZID=Europe/Berlin:20250509T150000
DTSTAMP:20260421T071800Z
UID:266d71854ddf484da92a281d783985de@www.econ.uni-bonn.de
CREATED:20250327T091825Z
DESCRIPTION:Do you want to write your Bachelor's thesis in the summer seme
 ster 2025 or winter semester 2025/26? The study management team will infor
 m you about the best way to proceed and what you should bear in mind. You 
 will also have the opportunity to ask your questions during the event. The
  event will be held in German.
LAST-MODIFIED:20250505T124024Z
URL:https://www.econ.uni-bonn.de/en/events/copy_of_information-zur-bachelo
 rarbeit
END:VEVENT
BEGIN:VTIMEZONE
TZID:Europe/Berlin
X-LIC-LOCATION:Europe/Berlin
BEGIN:DAYLIGHT
DTSTART:20250330T030000
TZNAME:CEST
TZOFFSETFROM:+0100
TZOFFSETTO:+0200
END:DAYLIGHT
END:VTIMEZONE
END:VCALENDAR
