BEGIN:VCALENDAR
VERSION:2.0
PRODID:-//Plone.org//NONSGML plone.app.event//EN
X-WR-TIMEZONE:Europe/Berlin
BEGIN:VEVENT
SUMMARY:First-Semester-Students' Welcome 2023
DTSTART;TZID=Europe/Berlin:20231004T111500
DTEND;TZID=Europe/Berlin:20231004T180000
DTSTAMP:20260420T162358Z
UID:7908f94ffac041798fce9791226fae77@www.econ.uni-bonn.de
CREATED:20230904T094502Z
DESCRIPTION:As you embark on your studies at the University of Bonn\, you 
 will begin a new chapter in your life. The University is keen to mark the 
 occasion by inviting all first-semester students to the First-Semester-Stu
 dents' Welcome event on October 4\, 2023\, at the University's main buildi
 ng. There will be plenty of information available and activities to join i
 n with\, allowing you to find out all you need to know about living and st
 udying in Bonn. The event will finish with a party in the University's Mai
 n Building\, giving you an opportunity to make new friends.\n\nAdmission i
 s free of charge. As of now\, event registration is not required. Please b
 ring your student ID or other proof of your status as a student of the Uni
 versity of Bonn.\n\nJoin in and get to know your University and meet your 
 fellow students. We're looking forward to meeting you!\n\nDetails of this 
 year's program will be published on this site at a later date.
LAST-MODIFIED:20230904T100408Z
URL:https://www.econ.uni-bonn.de/en/events/erstsemester-welcome-2023
END:VEVENT
BEGIN:VTIMEZONE
TZID:Europe/Berlin
X-LIC-LOCATION:Europe/Berlin
BEGIN:DAYLIGHT
DTSTART:20230326T030000
TZNAME:CEST
TZOFFSETFROM:+0100
TZOFFSETTO:+0200
END:DAYLIGHT
END:VTIMEZONE
END:VCALENDAR
