BEGIN:VCALENDAR
VERSION:2.0
PRODID:-//Plone.org//NONSGML plone.app.event//EN
X-WR-TIMEZONE:Europe/Berlin
BEGIN:VEVENT
SUMMARY:Fakultätskarrieretag: Messeevent
DTSTART;TZID=Europe/Berlin:20230511T100000
DTEND;TZID=Europe/Berlin:20230511T150000
DTSTAMP:20260420T113730Z
UID:d465a0c0623e424ba305b1bb4a9b122c@www.econ.uni-bonn.de
CREATED:20230330T113220Z
DESCRIPTION:Zusammen mit unserem Kooperationspartner Myjobfair bieten wir 
 jedes Jahr den Fakultätskarrieretag mit Schwerpunkt Wirtschaftswissenscha
 ften an.\nNutzen Sie den Tag für Ihre Berufsorientierung\, um Praktika zu
  finden und zum Kontakte knüpfen für zukünftige Stellen. Die teilnehmen
 den Arbeitgeber*innen interessieren sich speziell für Wirtschaftswissensc
 haftler*innen und stehen Ihnen für Karrierefragen zur Verfügung – dar
 über hinaus wird es interessante Programmpunkte mit Vorträgen und Worksh
 ops geben.
LAST-MODIFIED:20230421T115848Z
URL:https://www.econ.uni-bonn.de/en/events/fakultaetskarrieretag-messeeven
 t
END:VEVENT
BEGIN:VTIMEZONE
TZID:Europe/Berlin
X-LIC-LOCATION:Europe/Berlin
BEGIN:DAYLIGHT
DTSTART:20230326T030000
TZNAME:CEST
TZOFFSETFROM:+0100
TZOFFSETTO:+0200
END:DAYLIGHT
END:VTIMEZONE
END:VCALENDAR
