BEGIN:VCALENDAR
VERSION:2.0
PRODID:-//Plone.org//NONSGML plone.app.event//EN
X-WR-TIMEZONE:Europe/Berlin
BEGIN:VEVENT
SUMMARY:Girls’ Day 2024
DTSTART;TZID=Europe/Berlin:20240425T093000
DTEND;TZID=Europe/Berlin:20240425T130000
DTSTAMP:20260421T085716Z
UID:8d4e6e8dc56c497399a39d9eba705798@www.econ.uni-bonn.de
CATEGORIES:Studium
CREATED:20210309T083027Z
DESCRIPTION:Am Donnerstag\, den 25. April ist wieder Girls‘Day!\nDu inte
 ressierst dich für Wirtschaft und Forschung? Du möchtest später in dein
 em Beruf ein Beitrag für die Lösung von Problemen in Wirtschaft und Gese
 llschaft leisten? Du möchtest Ideen entwickeln\, wie man die knappen Ress
 ourcen von heute mit Rücksicht auf die Natur für den Wohlstand von Viele
 n effizient einsetzen kann? Dann lerne eine Ökonomin kennen\, die mit ihr
 er Forschung zur Lösung aktueller Probleme beiträgt und erfahre\, wie du
  selbst Ökonomin werden kannst. Besuche eine Lehrveranstaltung\, in der d
 u an einem wirtschaftswissenschaftlichen Experiment teilnimmst und lerne b
 ei einer spannenden Rallye die Universitätsbibliothek kennen. Beim gemein
 samen Lunch Snack bleibt noch Zeit für Eure Fragen.\n\nUnser Angebot rich
 tet sich an Schülerinnen ab der 8. Klasse!
LAST-MODIFIED:20250906T002035Z
URL:https://www.econ.uni-bonn.de/en/events/girlsday-2024
END:VEVENT
BEGIN:VTIMEZONE
TZID:Europe/Berlin
X-LIC-LOCATION:Europe/Berlin
BEGIN:DAYLIGHT
DTSTART:20240331T030000
TZNAME:CEST
TZOFFSETFROM:+0100
TZOFFSETTO:+0200
END:DAYLIGHT
END:VTIMEZONE
END:VCALENDAR
