BEGIN:VCALENDAR
VERSION:2.0
PRODID:-//Plone.org//NONSGML plone.app.event//EN
X-WR-TIMEZONE:Europe/Berlin
BEGIN:VEVENT
SUMMARY:Info Session on Studying Abroad on October 22nd
DTSTART;TZID=Europe/Berlin:20241022T160000
DTEND;TZID=Europe/Berlin:20241022T180000
DTSTAMP:20260420T121646Z
UID:eba763a07c764363aabddca836b494ed@www.econ.uni-bonn.de
CREATED:20241017T100509Z
DESCRIPTION:This is to invite those of you interested in gaining (more ) i
 nternational experience to an information session on studying abroad.\n\nI
 n the first part\, two colleagues from the central International Office wi
 ll share general information on doing a semester or an internship aborad\,
  and I will add a few details on the Erasmus partnerships of the departmen
 t\,\non when to go\, and on how to transfer credits.\nThe second part will
  consist of short reports from Economics students who have already done a 
 semester abroad and who will share their experiences.
LAST-MODIFIED:20250906T003328Z
URL:https://www.econ.uni-bonn.de/en/events/info-session-on-studying-abroad
 -on-october-22nd
END:VEVENT
BEGIN:VTIMEZONE
TZID:Europe/Berlin
X-LIC-LOCATION:Europe/Berlin
BEGIN:DAYLIGHT
DTSTART:20240331T030000
TZNAME:CEST
TZOFFSETFROM:+0100
TZOFFSETTO:+0200
END:DAYLIGHT
END:VTIMEZONE
END:VCALENDAR
