BEGIN:VCALENDAR
VERSION:2.0
PRODID:-//Plone.org//NONSGML plone.app.event//EN
X-WR-TIMEZONE:Europe/Berlin
BEGIN:VEVENT
SUMMARY:Information zur Bachelorarbeit
DTSTART;TZID=Europe/Berlin:20240315T160000
DTEND;TZID=Europe/Berlin:20240315T170000
DTSTAMP:20260420T151720Z
UID:e6de18e31da545799eec390d63151340@www.econ.uni-bonn.de
CREATED:20240313T103041Z
DESCRIPTION:Sie wollen im Sommersemester 2024 oder im Wintersemester 2024/
 25 Ihre Bachelorarbeit schreiben? Das Studienmanagement informiert Sie dar
 über\, wie Sie am besten vorgehen\, und was Sie beachten sollten. Außerd
 em haben Sie die Möglichkeit in der Veranstaltung Ihre Fragen zu stellen.
LAST-MODIFIED:20250906T001939Z
URL:https://www.econ.uni-bonn.de/en/events/information-zur-bachelorarbeit
END:VEVENT
BEGIN:VTIMEZONE
TZID:Europe/Berlin
X-LIC-LOCATION:Europe/Berlin
BEGIN:STANDARD
DTSTART:20231029T020000
TZNAME:CET
TZOFFSETFROM:+0200
TZOFFSETTO:+0100
END:STANDARD
END:VTIMEZONE
END:VCALENDAR
