BEGIN:VCALENDAR
VERSION:2.0
PRODID:-//Plone.org//NONSGML plone.app.event//EN
X-WR-TIMEZONE:Europe/Berlin
BEGIN:VEVENT
SUMMARY:Teaching degree: Information about starting your studies
DTSTART;TZID=Europe/Berlin:20251006T160000
DTEND;TZID=Europe/Berlin:20251006T170000
DTSTAMP:20260421T211229Z
UID:edb89fc9b7b246a4b671ff1e71015632@www.econ.uni-bonn.de
CREATED:20250924T110305Z
DESCRIPTION:The Department of Economics is hosting an information event fo
 r anyone who will be taking economics modules as part of their teaching de
 gree in the 2025/26 winter semester.\nYou can find the Zoom link under “
 Additional information.”
LAST-MODIFIED:20250924T110801Z
URL:https://www.econ.uni-bonn.de/en/events/lehramtsstudierende-infos-zum-s
 tudienbeginn-1
END:VEVENT
BEGIN:VTIMEZONE
TZID:Europe/Berlin
X-LIC-LOCATION:Europe/Berlin
BEGIN:DAYLIGHT
DTSTART:20250330T030000
TZNAME:CEST
TZOFFSETFROM:+0100
TZOFFSETTO:+0200
END:DAYLIGHT
END:VTIMEZONE
END:VCALENDAR
