BEGIN:VCALENDAR
VERSION:2.0
PRODID:-//Plone.org//NONSGML plone.app.event//EN
X-WR-TIMEZONE:Europe/Berlin
BEGIN:VEVENT
SUMMARY:R-Kurs
DTSTART;VALUE=DATE:20240226
DTEND;VALUE=DATE:20240302
DTSTAMP:20260420T173717Z
UID:c6a385b041494fee831dd8d7216043e3@www.econ.uni-bonn.de
CREATED:20240205T110047Z
DESCRIPTION:Die Fachschaft VWL bietet wieder einen R-Softwarekurs an! Der 
 Kurs wird vom 26.02.2024 – 01.03.2024 im Juridicum stattfinden. Ein gena
 uer Tagesplan wird bekanntgegeben\, sobald die Anmeldephase vorbei ist. \n
 \nWir kann ich mich anmelden? \nLink unten
LAST-MODIFIED:20240205T110154Z
URL:https://www.econ.uni-bonn.de/en/events/r-kurs
END:VEVENT
END:VCALENDAR
