BEGIN:VCALENDAR
VERSION:2.0
PRODID:-//Plone.org//NONSGML plone.app.event//EN
X-WR-TIMEZONE:Europe/Berlin
BEGIN:VEVENT
SUMMARY:Selten Salon 2024
DTSTART;TZID=Europe/Berlin:20240222T170000
DTEND;TZID=Europe/Berlin:20240222T183000
DTSTAMP:20260420T183112Z
UID:26797eab5a454b8abf84ddf2d2880b55@www.econ.uni-bonn.de
CREATED:20240117T120659Z
DESCRIPTION:Das Exzellenzcluster ECONtribute lädt Sie herzlich zum diesj
 ährigen Selten Salon mit der Wirtschaftsweisen Prof. Dr. Dr. Ulrike Malme
 ndier am 22.02.2024 im Uniclub in Bonn ein:\n\n„Ist das Geschäftsmodell
  Deutschland in Gefahr? Wo liegen Chancen für den Standort Deutschland?
 “\n\nUlrike Malmendier ist Mitglied des Sachverständigenrates Wirtschaf
 t zur Begutachtung der gesamtwirtschaftlichen Entwicklung und Professorin 
 an der University of California in Berkeley. Ulrike Malmendier studierte V
 olkswirtschaftslehre und Jura an der Universität Bonn\, an der sie auch i
 n Jura promovierte. Im Rahmen des Selten Salon des Exzellenzclusters ECONt
 ribute kehrt sie an die Universität Bonn zurück. Der Selten Salon richte
 t sich an die interessierte Öffentlichkeit und stellt Themen der Spitzenf
 orschung einfach und verständlich vor.\n\nEine verbindliche Anmeldung bei
  der u.g. E-mail Adresse ist nötig!
LAST-MODIFIED:20250906T002816Z
URL:https://www.econ.uni-bonn.de/en/events/selten-salon-2024
END:VEVENT
BEGIN:VTIMEZONE
TZID:Europe/Berlin
X-LIC-LOCATION:Europe/Berlin
BEGIN:STANDARD
DTSTART:20231029T020000
TZNAME:CET
TZOFFSETFROM:+0200
TZOFFSETTO:+0100
END:STANDARD
END:VTIMEZONE
END:VCALENDAR
