BEGIN:VCALENDAR
VERSION:2.0
PRODID:-//Plone.org//NONSGML plone.app.event//EN
X-WR-TIMEZONE:Europe/Berlin
BEGIN:VEVENT
SUMMARY:Unifest 2022
DTSTART;VALUE=DATE:20220625
DTEND;VALUE=DATE:20220626
DTSTAMP:20260421T025058Z
UID:7d3dcbc9301b4f7198062703d20a62ce@www.econ.uni-bonn.de
CATEGORIES:Studium
CREATED:20220315T132247Z
DESCRIPTION:It's happening again! On June 25th 2022\, the Unifest presence
  event will take place on the Hofgartenwiese! \nYou can expect a colourful
  bouquet of active and creative offers\, catering\, merchandise\, photo op
 portunities\, the traditional presentation of the decorative certificates\
 , a festive stage programme\, the ceremonial hat toss and much more! On to
 p of that\, Unifest 2022 will also be rounded off by an open-air concert b
 y the band Druckluft!\nFor more information on Unifest 2022\, check out ou
 r website (insert link)\, and follow us on Insta\, Twitter and Facebook. D
 on't forget to check your email account regularly if you want to be kept u
 p to date as a graduate. \nWe look forward to seeing you!
LAST-MODIFIED:20250906T003538Z
URL:https://www.econ.uni-bonn.de/en/events/unifest-2022
END:VEVENT
END:VCALENDAR
