BEGIN:VCALENDAR
VERSION:2.0
PRODID:-//Plone.org//NONSGML plone.app.event//EN
X-WR-TIMEZONE:Europe/Berlin
BEGIN:VEVENT
SUMMARY:Virtual Selten Lecture 2022 with Esther Duflo
DTSTART;TZID=Europe/Berlin:20220314T153000
DTEND;TZID=Europe/Berlin:20220314T170000
DTSTAMP:20260422T100805Z
UID:4dbd7af4e8c44fb3aefbc9da1ebc6482@www.econ.uni-bonn.de
CATEGORIES:Research
CREATED:20220224T123846Z
DESCRIPTION:Esther Duflo\, professor at the Massachusetts Institute of Tec
 hnology\, will deliver this year’s Virtual Selten Lecture.\nEsther Duflo
 ’s research focuses on . Her research includes household behavior\, educ
 ation and health policy.\n\nWith the Selten Lecture\, the Cluster of Excel
 lence ECONtribute and the Reinhard Selten Institute invite on an annual ba
 sis internationally renowned researchers for a lecture for interested rese
 archers.\n \n\nTime and Place:\n\n14.03.2022\n15:30 - 17:00\nonline via Zo
 om\n\nPlease register here.\n\nMore information: https://econtribute.de/ev
 ent/selten-lecture-with-esther-duflo
LAST-MODIFIED:20250906T001936Z
URL:https://www.econ.uni-bonn.de/en/events/virtual-selten-lecture-2022-wit
 h-esther-duflo
END:VEVENT
BEGIN:VTIMEZONE
TZID:Europe/Berlin
X-LIC-LOCATION:Europe/Berlin
BEGIN:STANDARD
DTSTART:20211031T020000
TZNAME:CET
TZOFFSETFROM:+0200
TZOFFSETTO:+0100
END:STANDARD
END:VTIMEZONE
END:VCALENDAR
