BEGIN:VCALENDAR
VERSION:2.0
PRODID:-//Plone.org//NONSGML plone.app.event//EN
X-WR-TIMEZONE:Europe/Berlin
BEGIN:VEVENT
SUMMARY:Wie werde ich Tutor*in?
DTSTART;TZID=Europe/Berlin:20230508T180000
DTEND;TZID=Europe/Berlin:20230508T183000
DTSTAMP:20260421T052110Z
UID:e910cf1ce6ab4c74a9d52f552c298372@www.econ.uni-bonn.de
CATEGORIES:Studium,Karriere
CREATED:20220429T092612Z
DESCRIPTION:Am 8. Mai 2023 um 18:00 Uhr findet eine Informationsveranstalt
 ung über Zoom zur Tutorenausschreibung statt. Den Zoomlink zur Veranstalt
 ung finden Sie auf der Website für die Tutorenausschreibung (Link finden 
 sie unten.). Sie erhalten Tipps zur Vorbereitung und Durchführung eines T
 utoriums\, zum Vertragsrahmen und können Ihre Fragen stellen.
LAST-MODIFIED:20250906T002252Z
URL:https://www.econ.uni-bonn.de/en/events/wie-werde-ich-tutor-in-1
END:VEVENT
BEGIN:VTIMEZONE
TZID:Europe/Berlin
X-LIC-LOCATION:Europe/Berlin
BEGIN:DAYLIGHT
DTSTART:20230326T030000
TZNAME:CEST
TZOFFSETFROM:+0100
TZOFFSETTO:+0200
END:DAYLIGHT
END:VTIMEZONE
END:VCALENDAR
