BEGIN:VCALENDAR
VERSION:2.0
PRODID:-//Plone.org//NONSGML plone.app.event//EN
X-WR-TIMEZONE:Europe/Berlin
BEGIN:VEVENT
SUMMARY:Philipp Hamelmann (BGSE) 16.11.2022
DTSTART;TZID=Europe/Berlin:20221116T124500
DTEND;TZID=Europe/Berlin:20221116T132500
DTSTAMP:20260422T003133Z
UID:0bb57f4afcf447dda58c71ec26ce8b72@www.econ.uni-bonn.de
CREATED:20221115T154048Z
DESCRIPTION:--------------------------------------------------------------
 --------------------------------------
LAST-MODIFIED:20221130T094417Z
URL:https://www.econ.uni-bonn.de/micro/en/seminars/bgse-workshop/philipp-h
 amelmann-bgse-16-11.2022
END:VEVENT
BEGIN:VTIMEZONE
TZID:Europe/Berlin
X-LIC-LOCATION:Europe/Berlin
BEGIN:STANDARD
DTSTART:20221030T020000
TZNAME:CET
TZOFFSETFROM:+0200
TZOFFSETTO:+0100
END:STANDARD
END:VTIMEZONE
END:VCALENDAR
